BEGIN:VCALENDAR
VERSION:2.0
PRODID:-//Discover Magnolia - ECPv6.15.11//NONSGML v1.0//EN
CALSCALE:GREGORIAN
METHOD:PUBLISH
X-WR-CALNAME:Discover Magnolia
X-ORIGINAL-URL:https://discovermagnolia.org
X-WR-CALDESC:Events for Discover Magnolia
REFRESH-INTERVAL;VALUE=DURATION:PT1H
X-Robots-Tag:noindex
X-PUBLISHED-TTL:PT1H
BEGIN:VTIMEZONE
TZID:America/Los_Angeles
BEGIN:DAYLIGHT
TZOFFSETFROM:-0800
TZOFFSETTO:-0700
TZNAME:PDT
DTSTART:20240310T100000
END:DAYLIGHT
BEGIN:STANDARD
TZOFFSETFROM:-0700
TZOFFSETTO:-0800
TZNAME:PST
DTSTART:20241103T090000
END:STANDARD
BEGIN:DAYLIGHT
TZOFFSETFROM:-0800
TZOFFSETTO:-0700
TZNAME:PDT
DTSTART:20250309T100000
END:DAYLIGHT
BEGIN:STANDARD
TZOFFSETFROM:-0700
TZOFFSETTO:-0800
TZNAME:PST
DTSTART:20251102T090000
END:STANDARD
BEGIN:DAYLIGHT
TZOFFSETFROM:-0800
TZOFFSETTO:-0700
TZNAME:PDT
DTSTART:20260308T100000
END:DAYLIGHT
BEGIN:STANDARD
TZOFFSETFROM:-0700
TZOFFSETTO:-0800
TZNAME:PST
DTSTART:20261101T090000
END:STANDARD
END:VTIMEZONE
BEGIN:VEVENT
DTSTART;TZID=America/Los_Angeles:20251206T160000
DTEND;TZID=America/Los_Angeles:20251206T200000
DTSTAMP:20260423T044844
CREATED:20251101T164629Z
LAST-MODIFIED:20251101T164629Z
UID:10001221-1765036800-1765051200@discovermagnolia.org
SUMMARY:SBG Winter Wonderland Market
DESCRIPTION:Join us for SBG’s 2nd Annual Winter Wonderland Market — a cozy evening of community\, creativity\, and holiday cheer ❄️ \n🗓️ December 6\, 2025\n⏰ 4–8 PM\n📍 Seattle Boxing Gym \nFeaturing:\n🎁 15+ local vendors\n🎶 Live DJs\n💫 Flash tattoos\n📸 Photobooth\n✍️ Live hand-drawn portraits\n🎅🏽 Special guest appearance by Filipino Santa and his elves \n🍢 Delicious food by 88 Cues
URL:https://discovermagnolia.org/event/sbg-winter-wonderland-market/
LOCATION:Seattle Boxing Gym\, 2001 15th Ave W\, Seattle\, WA\, 98119\, United States
CATEGORIES:Dance,Food,Holiday observance,Music,Shopping
ATTACH;FMTTYPE=image/png:https://discovermagnolia.org/wp-content/uploads/2025/11/SBGWWM_2025_Digital_Graphics_IG_Post-1-002.png
END:VEVENT
END:VCALENDAR