BEGIN:VCALENDAR
VERSION:2.0
PRODID:-//Discover Magnolia - ECPv6.15.11//NONSGML v1.0//EN
CALSCALE:GREGORIAN
METHOD:PUBLISH
X-WR-CALNAME:Discover Magnolia
X-ORIGINAL-URL:https://discovermagnolia.org
X-WR-CALDESC:Events for Discover Magnolia
REFRESH-INTERVAL;VALUE=DURATION:PT1H
X-Robots-Tag:noindex
X-PUBLISHED-TTL:PT1H
BEGIN:VTIMEZONE
TZID:America/Los_Angeles
BEGIN:DAYLIGHT
TZOFFSETFROM:-0800
TZOFFSETTO:-0700
TZNAME:PDT
DTSTART:20240310T100000
END:DAYLIGHT
BEGIN:STANDARD
TZOFFSETFROM:-0700
TZOFFSETTO:-0800
TZNAME:PST
DTSTART:20241103T090000
END:STANDARD
BEGIN:DAYLIGHT
TZOFFSETFROM:-0800
TZOFFSETTO:-0700
TZNAME:PDT
DTSTART:20250309T100000
END:DAYLIGHT
BEGIN:STANDARD
TZOFFSETFROM:-0700
TZOFFSETTO:-0800
TZNAME:PST
DTSTART:20251102T090000
END:STANDARD
BEGIN:DAYLIGHT
TZOFFSETFROM:-0800
TZOFFSETTO:-0700
TZNAME:PDT
DTSTART:20260308T100000
END:DAYLIGHT
BEGIN:STANDARD
TZOFFSETFROM:-0700
TZOFFSETTO:-0800
TZNAME:PST
DTSTART:20261101T090000
END:STANDARD
END:VTIMEZONE
BEGIN:VEVENT
DTSTART;TZID=America/Los_Angeles:20251003T160000
DTEND;TZID=America/Los_Angeles:20251003T190000
DTSTAMP:20260423T065314
CREATED:20250919T194137Z
LAST-MODIFIED:20250919T194137Z
UID:10001204-1759507200-1759518000@discovermagnolia.org
SUMMARY:Truce Law Open House & Ribbon Cutting (+ Free Professional Headshots)
DESCRIPTION:We’re thrilled to open our doors and celebrate a new chapter for Truce Law — our beautiful new Fremont office! Join us for an evening of connection\, celebration\, and community as we mark this special milestone. \nLocation: \nTruce Law \n146 N Canal St\, Suite #340 \nSeattle\, WA 98103 (Fremont neighborhood) \nDate: Friday\, October 3\, 2025 \nTime: 4:00 PM – 7:00 PM \nRibbon Cutting Ceremony: 5:00 PM \nClick here to RSVP on Eventbrite (Free) \nEvent schedule\n\n4:00 PM – Open House Begins\n4:00–5:30 PM – Professional Headshots provided by 47 Consultants\nWelcome Remarks – Justin Aanenson\, Truce Law Owner & Founder\nSpecial Remarks – Seattle Metro Chamber\n5:00 PM – Official Ribbon Cutting\n\nEnjoy:\n\nFree professional headshots by 47 Consulting\n\n\nLight bites & refreshments\n\n\nOffice tours\n\n\nNetworking with local professionals & community leaders\n\n\nA chance to meet the Truce Law team and learn about our collaborative\, family-centered approach to legal services\n\nWhether you’re a client\, colleague\, neighbor\, or friend—we’d be honored to have you with us as we celebrate growth\, gratitude\, and a space built for peace-forward progress. \n  \nWith appreciation\, \nAll of Us @ Truce Law
URL:https://discovermagnolia.org/event/truce-law-open-house-ribbon-cutting-free-professional-headshots/
LOCATION:Truce Law\, 146 N Canal St\, Seattle\, WA\, 98103\, United States
CATEGORIES:Drinks,Food,Grand Opening,Networking
ATTACH;FMTTYPE=image/jpeg:https://discovermagnolia.org/wp-content/uploads/2025/09/Truce-open-house.jpg
END:VEVENT
BEGIN:VEVENT
DTSTART;TZID=America/Los_Angeles:20251004T130000
DTEND;TZID=America/Los_Angeles:20251004T150000
DTSTAMP:20260423T065314
CREATED:20250918T145319Z
LAST-MODIFIED:20250918T145331Z
UID:10001202-1759582800-1759590000@discovermagnolia.org
SUMMARY:Ceramics Studio Launch Party & Fund Raiser
DESCRIPTION:The Launch Party\n📅 Date & Time: Saturday October 4📍 Location: Seattle Makers\, 3012 16th Ave W\, Seattle WA 98119💲 Free to attend | Art for sale\n🎟️ RSVP on Meetup to attend \nAt the party you’ll enjoy: \n\n\nArt sale with work from the talented Seattle Makers ceramics instructors \n\n\nStudio tours of the ceramics studio and the rest of the makerspace \n\n\nMeet the makers who brought the space to life \n\n\nRefreshments and great company
URL:https://discovermagnolia.org/event/ceramics-studio-launch-party-fund-raiser/
LOCATION:Seattle Makers\, 3012 16th Ave W\, Seattle\, WA\, 98119\, United States
CATEGORIES:Art,Craft,Drinks,Food,fund raiser
ATTACH;FMTTYPE=image/jpeg:https://discovermagnolia.org/wp-content/uploads/2025/09/makers.jpg
END:VEVENT
BEGIN:VEVENT
DTSTART;TZID=America/Los_Angeles:20251004T180000
DTEND;TZID=America/Los_Angeles:20251004T210000
DTSTAMP:20260423T065314
CREATED:20250903T171210Z
LAST-MODIFIED:20250903T171210Z
UID:10001195-1759600800-1759611600@discovermagnolia.org
SUMMARY:Fatima Fall Carnival
DESCRIPTION:Come join us for the 2025 Our Lady of Fatima Fall Carnival. \nThere will be a 21+ beer/wine garden for adults. Rides\, face painting\, cake parade (formerly known as the cake walk)\, food\, baked goods\, bouncy houses\, a general store\, and games. \n  \nYou can purchase your tickets in advance and pick them up when you arrive. Carnival Tickets – Available Now!
URL:https://discovermagnolia.org/event/fatima-fall-carnival/
LOCATION:Our Lady of Fatima\, 3301 W Dravus St.\, Seattle\, 98199\, United States
CATEGORIES:Drinks,Food,fund raiser,Games,Kids
ATTACH;FMTTYPE=image/png:https://discovermagnolia.org/wp-content/uploads/2025/09/Fatima-Fall-Carnival.png
ORGANIZER;CN="Our Lady of Fatima Parish School":MAILTO:eburke@olfatima.org
END:VEVENT
BEGIN:VEVENT
DTSTART;TZID=America/Los_Angeles:20251022T173000
DTEND;TZID=America/Los_Angeles:20251022T193000
DTSTAMP:20260423T065314
CREATED:20250401T195557Z
LAST-MODIFIED:20250901T221643Z
UID:10001068-1761154200-1761161400@discovermagnolia.org
SUMMARY:Magnolia Meets: Monthly Happy Hour
DESCRIPTION:We enjoy getting together casually in one of our local Magnolia businesses each month. These happy hours are an excellent opportunity to meet other members of the Chamber\, celebrate local business owners and entrepreneurs\, and grow your network. \nJoin us each month from 5:30-7:30pm. Location this month will be Dirty Couch Brewing (DCB). They are located at 2715 W Fort St.
URL:https://discovermagnolia.org/event/magnolia-meets-monthly-happy-hour/
LOCATION:Dirty Couch Brewery\, 2715 W Fort St\, Seattle\, 98199\, United States
CATEGORIES:Drinks,Networking
ATTACH;FMTTYPE=image/jpeg:https://discovermagnolia.org/wp-content/uploads/2025/04/Happy-Hour-DCB.jpg
ORGANIZER;CN="Magnolia Chamber of Commerce":MAILTO:info@discovermagnolia.org
END:VEVENT
END:VCALENDAR