BEGIN:VCALENDAR
VERSION:2.0
PRODID:-//Discover Magnolia - ECPv6.15.11//NONSGML v1.0//EN
CALSCALE:GREGORIAN
METHOD:PUBLISH
X-WR-CALNAME:Discover Magnolia
X-ORIGINAL-URL:https://discovermagnolia.org
X-WR-CALDESC:Events for Discover Magnolia
REFRESH-INTERVAL;VALUE=DURATION:PT1H
X-Robots-Tag:noindex
X-PUBLISHED-TTL:PT1H
BEGIN:VTIMEZONE
TZID:America/Los_Angeles
BEGIN:DAYLIGHT
TZOFFSETFROM:-0800
TZOFFSETTO:-0700
TZNAME:PDT
DTSTART:20240310T100000
END:DAYLIGHT
BEGIN:STANDARD
TZOFFSETFROM:-0700
TZOFFSETTO:-0800
TZNAME:PST
DTSTART:20241103T090000
END:STANDARD
BEGIN:DAYLIGHT
TZOFFSETFROM:-0800
TZOFFSETTO:-0700
TZNAME:PDT
DTSTART:20250309T100000
END:DAYLIGHT
BEGIN:STANDARD
TZOFFSETFROM:-0700
TZOFFSETTO:-0800
TZNAME:PST
DTSTART:20251102T090000
END:STANDARD
BEGIN:DAYLIGHT
TZOFFSETFROM:-0800
TZOFFSETTO:-0700
TZNAME:PDT
DTSTART:20260308T100000
END:DAYLIGHT
BEGIN:STANDARD
TZOFFSETFROM:-0700
TZOFFSETTO:-0800
TZNAME:PST
DTSTART:20261101T090000
END:STANDARD
BEGIN:DAYLIGHT
TZOFFSETFROM:-0800
TZOFFSETTO:-0700
TZNAME:PDT
DTSTART:20270314T100000
END:DAYLIGHT
BEGIN:STANDARD
TZOFFSETFROM:-0700
TZOFFSETTO:-0800
TZNAME:PST
DTSTART:20271107T090000
END:STANDARD
END:VTIMEZONE
BEGIN:VEVENT
DTSTART;TZID=America/Los_Angeles:20251022T173000
DTEND;TZID=America/Los_Angeles:20251022T193000
DTSTAMP:20260423T100843
CREATED:20250401T195557Z
LAST-MODIFIED:20250901T221643Z
UID:10001068-1761154200-1761161400@discovermagnolia.org
SUMMARY:Magnolia Meets: Monthly Happy Hour
DESCRIPTION:We enjoy getting together casually in one of our local Magnolia businesses each month. These happy hours are an excellent opportunity to meet other members of the Chamber\, celebrate local business owners and entrepreneurs\, and grow your network. \nJoin us each month from 5:30-7:30pm. Location this month will be Dirty Couch Brewing (DCB). They are located at 2715 W Fort St.
URL:https://discovermagnolia.org/event/magnolia-meets-monthly-happy-hour/
LOCATION:Dirty Couch Brewery\, 2715 W Fort St\, Seattle\, 98199\, United States
CATEGORIES:Drinks,Networking
ATTACH;FMTTYPE=image/jpeg:https://discovermagnolia.org/wp-content/uploads/2025/04/Happy-Hour-DCB.jpg
ORGANIZER;CN="Magnolia Chamber of Commerce":MAILTO:info@discovermagnolia.org
END:VEVENT
BEGIN:VEVENT
DTSTART;TZID=America/Los_Angeles:20251108T090000
DTEND;TZID=America/Los_Angeles:20251108T110000
DTSTAMP:20260423T100843
CREATED:20251104T162515Z
LAST-MODIFIED:20251104T162515Z
UID:10001222-1762592400-1762599600@discovermagnolia.org
SUMMARY:Salmon Bay Cars & Coffee at Evolution Press
DESCRIPTION:Join us at Evolution Press for the first meeting of Salmon Bay Cars & Coffee\, a relaxed morning of beautiful cars\, great company\, and even better coffee. This month\, enjoy coffee from our friends at Outer Dark Coffee Co.\, take a tour of our print shop\, and explore the art on display in the Jay Mason Gallery upstairs.\nDrive in\, grab a cup\, and join us for some creative car culture!\nEveryone’s welcome — we’d love to see you there.
URL:https://discovermagnolia.org/event/salmon-bay-cars-coffee-at-evolution-press/
LOCATION:Evolution Press\, 2525 W Commodore Way\, Seattle\, WA\, 98199\, United States
CATEGORIES:Car Show,Drinks
ATTACH;FMTTYPE=image/jpeg:https://discovermagnolia.org/wp-content/uploads/2025/11/Screenshot-2025-11-04-082454.jpg
END:VEVENT
BEGIN:VEVENT
DTSTART;TZID=America/Los_Angeles:20251110T170000
DTEND;TZID=America/Los_Angeles:20251110T210000
DTSTAMP:20260423T100843
CREATED:20251015T004045Z
LAST-MODIFIED:20251015T004045Z
UID:10001215-1762794000-1762808400@discovermagnolia.org
SUMMARY:The Neighborhood Farmers Markets Benefit Dinner
DESCRIPTION:Strengthening Our Community Food System from the Ground Up\n\n\n\n\n\nJoin us for an intimate benefit dinner for Neighborhood Farmers Markets\, hosted by Cafe Flora. In addition to enjoying a delicious meal\, guests will learn more about our work in the community and be invited to make a donation to support our markets and programs. Farmers markets are about more than food; they’re an essential way small farmers feed our community and make a life from working the land. Combined with NFM’s commitment to ensuring access to fresh\, healthy food for everyone in our community\, our work provides farmers with a place to thrive. \n  \nThe Evening Includes: \nAn insider look at the Neighborhood Farmers Markets’ work in the community. \nA three-course\, seasonal\, vegetarian dinner from Cafe Flora chefs and Washington farmers. \nExciting raffle opportunities including the best from local producers\, restaurants\, and businesses. \nWe’re so grateful to Nat Stratton-Clarke and Cafe Flora for hosting the evening\, and we’re looking forward to seeing you there! \n  \nAll proceeds from the evening will support the operation of the Neighborhood Farmers Markets’ eight markets in seven locations throughout Seattle.
URL:https://discovermagnolia.org/event/the-neighborhood-farmers-markets-benefit-dinner/
LOCATION:Cafe Flora Atrium
CATEGORIES:Drinks,Food,fund raiser
ATTACH;FMTTYPE=image/png:https://discovermagnolia.org/wp-content/uploads/2025/10/FallFundraisingDinner.png
END:VEVENT
BEGIN:VEVENT
DTSTART;TZID=America/Los_Angeles:20251118T173000
DTEND;TZID=America/Los_Angeles:20251118T193000
DTSTAMP:20260423T100843
CREATED:20250818T200132Z
LAST-MODIFIED:20251104T154323Z
UID:10001192-1763487000-1763494200@discovermagnolia.org
SUMMARY:Magnolia Meets: Monthly Happy Hour
DESCRIPTION:We enjoy getting together casually in one of our local Magnolia businesses each month. These happy hours are an excellent opportunity to meet other members of the Chamber\, celebrate local business owners and entrepreneurs\, and grow your network. \nJoin us each month from 5:30-7:30pm. Location this month will be Mondello. They are located at 2425 33rd Ave W.
URL:https://discovermagnolia.org/event/magnolia-meets-monthly-happy-hour-2/
LOCATION:Mondello\, 2425 33rd Ave W\, Seattle\, 98199\, United States
CATEGORIES:Drinks,Networking
ATTACH;FMTTYPE=image/jpeg:https://discovermagnolia.org/wp-content/uploads/2025/08/Happy-Hour-Mondello.jpg
ORGANIZER;CN="Magnolia Chamber of Commerce":MAILTO:info@discovermagnolia.org
END:VEVENT
BEGIN:VEVENT
DTSTART;TZID=America/Los_Angeles:20251129T150000
DTEND;TZID=America/Los_Angeles:20251129T210000
DTSTAMP:20260423T100843
CREATED:20251017T205410Z
LAST-MODIFIED:20251020T211519Z
UID:10001218-1764428400-1764450000@discovermagnolia.org
SUMMARY:Celebrate Small Business Saturday at the Old Log Cabin Distillery's Holiday Market!
DESCRIPTION:Come sip\, shop\, and celebrate locally at our free holiday market! Explore a variety of Seattle vendors offering vintage clothing\, housewares\, and one-of-a-kind gift items. Enjoy a festive drink from our tasting room\, grab a slice from Dantini Pizza\, and get a head start on your holiday shopping. This is a free\, all-ages event with plenty of free parking. Everyone’s welcome!
URL:https://discovermagnolia.org/event/holiday-market-at-old-log-cabin-distillery/
LOCATION:Old Log Cabin\, 1417 Elliott Ave W\, Seattle\, WA\, 98119\, United States
CATEGORIES:Drinks,Food,Holiday observance,Shopping
ATTACH;FMTTYPE=image/png:https://discovermagnolia.org/wp-content/uploads/2025/10/Market-Flyer-1-002.png
END:VEVENT
BEGIN:VEVENT
DTSTART;TZID=America/Los_Angeles:20251206T140000
DTEND;TZID=America/Los_Angeles:20251206T200000
DTSTAMP:20260423T100843
CREATED:20250915T213651Z
LAST-MODIFIED:20251106T201009Z
UID:10001201-1765029600-1765051200@discovermagnolia.org
SUMMARY:Magnolia Winterfest 2025
DESCRIPTION:The holiday season kicks off in style in Magnolia with the annual Winterfest on Saturday\, December 6th. \nLocal merchants and businesses in Magnolia Village will offer an array of holiday-themed arts and crafts activities for kids during the daytime and traditional favorites such as photos with Santa\, the Magnolia holiday tree lighting event\, and holiday caroling through Magnolia Village. \nDelicious bites and beverages can be enjoyed at Magnolia Village restaurants and venues\, all in preparation for after-hours shopping at local boutiques and stores. \nIn addition\, at Magnolia Lutheran Church\, the Lloyd W. Nordstrom Guild will be hosting a Winterfest Marketplace event supporting Seattle Children’s Hospital. \nFollow the updated details on our website HERE.
URL:https://discovermagnolia.org/event/magnolia-winterfest-2025/
LOCATION:Magnolia Village\, West McGraw Street\, Seattle\, 98199
CATEGORIES:Craft,Drinks,Food,Games,Holiday observance,Kids,Music,Shopping
ATTACH;FMTTYPE=image/jpeg:https://discovermagnolia.org/wp-content/uploads/2025/09/Winterfest2025SocialMediaImage.jpg
ORGANIZER;CN="Magnolia Chamber of Commerce":MAILTO:info@discovermagnolia.org
END:VEVENT
BEGIN:VEVENT
DTSTART;TZID=America/Los_Angeles:20251213T090000
DTEND;TZID=America/Los_Angeles:20251213T110000
DTSTAMP:20260423T100843
CREATED:20251201T223401Z
LAST-MODIFIED:20251201T223401Z
UID:10001233-1765616400-1765623600@discovermagnolia.org
SUMMARY:Salmon Bay Cars & Coffee at Evolution Press
DESCRIPTION:Join us at Evolution Press for the second meeting of Salmon Bay Cars & Coffee\, a relaxed morning of beautiful cars\, great company\, and even better coffee. This month\, enjoy coffee from our friends at Outer Dark Coffee Co.\, take a tour of our print shop\, and explore the art on display in the Jay Mason Gallery upstairs. \nDrive in\, grab a cup\, and join us for some creative car culture every second Saturday of the month! \nEveryone’s welcome — we’d love to see you there.
URL:https://discovermagnolia.org/event/salmon-bay-cars-coffee-at-evolution-press-2/
LOCATION:Evolution Press\, 2525 W Commodore Way\, Seattle\, WA\, 98199\, United States
CATEGORIES:Car Show,Drinks
ATTACH;FMTTYPE=image/jpeg:https://discovermagnolia.org/wp-content/uploads/2025/12/EP-CC-2-ed_-002.jpeg
END:VEVENT
BEGIN:VEVENT
DTSTART;TZID=America/Los_Angeles:20260110T090000
DTEND;TZID=America/Los_Angeles:20260110T110000
DTSTAMP:20260423T100843
CREATED:20260106T165547Z
LAST-MODIFIED:20260106T165547Z
UID:10001244-1768035600-1768042800@discovermagnolia.org
SUMMARY:Salmon Bay Cars & Coffee at Evolution Press
DESCRIPTION:Saturday\, January 10th \n9:00 AM – 11 AM \nEvolution Press – 2525 Commodore Way\, West Seattle\, WA 98199 \nJoin us at Evolution Press for the third meeting of Salmon Bay Cars & Coffee\, a relaxed morning of beautiful cars\, great company\, and even better coffee. This month\, enjoy coffee from our friends at Outer Dark Coffee Co.\, take a tour of our print shop\, and explore the art on display in the Jay Mason Gallery upstairs. \nDrive in\, grab a cup\, and join us for some creative car culture every second Saturday of the month! \nEveryone’s welcome — we’d love to see you there.
URL:https://discovermagnolia.org/event/salmon-bay-cars-coffee-at-evolution-press-3/
LOCATION:Evolution Press\, 2525 W Commodore Way\, Seattle\, WA\, 98199\, United States
CATEGORIES:Car Show,Drinks
ATTACH;FMTTYPE=image/jpeg:https://discovermagnolia.org/wp-content/uploads/2026/01/EP-3rd-CC_-002-scaled.jpg
END:VEVENT
BEGIN:VEVENT
DTSTART;TZID=America/Los_Angeles:20260120T173000
DTEND;TZID=America/Los_Angeles:20260120T193000
DTSTAMP:20260423T100843
CREATED:20260108T164443Z
LAST-MODIFIED:20260108T164814Z
UID:10001246-1768930200-1768937400@discovermagnolia.org
SUMMARY:Magnolia Meets After Hours at SennzaFinne
DESCRIPTION:Magnolia Meets will feature a different Chamber member or business each month\, allowing us to learn from one another\, share experiences\, and discover the expertise right in our community. These gatherings will remain casual and flexible — drop in when you can\, stay as long as you’d like — but now with added purpose\, fun\, and connection. \nYou can expect: \n\nA featured member or business shares insights\, stories\, or a behind-the-scenes look at their enterprise.\n“Light-learning” moments that help us grow as business owners and neighbors.\nOpportunities to build deeper relationships within our Chamber community.\nA welcoming space to meet new members\, reconnect with familiar faces\, and enjoy some relaxation and fun.\n\nPlease join us monthly as we continue to strengthen the bonds that make Magnolia a vibrant place to live and do business. \n📅 This Month’s Magnolia Meets\nFeatured Member/Business: SennzaFinne Libations \nLocation: 3401 Thorndyke Ave W\, Suite 119 \nDate & Time: January 20th\, starts at 5:30pm \nFor just $15 per person\, guests will enjoy: \n\nA beautiful charcuterie spread from Stoneburner\nAdditional snacks to nibble and share\nA selection of SennzaFinne cocktails and tasting flights\, including thoughtfully crafted non‑alcoholic options\nA fascinating look into how SennzaFinne creates their acclaimed Amaro\, including the inspiration\, process\, and magic behind their signature flavors\n\nSpace and time are limited — sign up now! \nMagnolia Meets events fill quickly\, and this one will be no exception. You can secure your spot today and join us for a memorable evening of community and craft.
URL:https://discovermagnolia.org/event/magnolia-meets-after-hours-at-sennzafinne/
LOCATION:SennzaFinne\, 3401 Thorndyke Ave W\, Seattle\, WA\, 98119\, United States
CATEGORIES:Drinks,Education,Food,Networking
ATTACH;FMTTYPE=image/jpeg:https://discovermagnolia.org/wp-content/uploads/2026/01/Magnolia-Meets.jpg
ORGANIZER;CN="Magnolia Chamber of Commerce":MAILTO:info@discovermagnolia.org
END:VEVENT
BEGIN:VEVENT
DTSTART;TZID=America/Los_Angeles:20260214T090000
DTEND;TZID=America/Los_Angeles:20260214T110000
DTSTAMP:20260423T100843
CREATED:20260203T215932Z
LAST-MODIFIED:20260203T215932Z
UID:10001254-1771059600-1771066800@discovermagnolia.org
SUMMARY:Salmon Bay Cars & Coffee at Evolution Press
DESCRIPTION:Saturday\, February 14th \n9:00 AM – 11 AM \nEvolution Press – 2525 Commodore Way\, West Seattle\, WA 98199 \nJoin us at Evolution Press for the fourth meeting of Salmon Bay Cars & Coffee\, a relaxed morning of beautiful cars\, great company\, and even better coffee. This month\, enjoy coffee from our friends at Outer Dark Coffee Co.\, take a tour of our print shop\, and explore the art on display in the Jay Mason Gallery upstairs. \nDrive in\, grab a cup\, and join us for some creative car culture every second Saturday of the month! \nEveryone’s welcome — we’d love to see you there.
URL:https://discovermagnolia.org/event/salmon-bay-cars-coffee-at-evolution-press-4/
LOCATION:Evolution Press\, 2525 W Commodore Way\, Seattle\, WA\, 98199\, United States
CATEGORIES:Art,Car Show,Drinks
ATTACH;FMTTYPE=image/jpeg:https://discovermagnolia.org/wp-content/uploads/2026/02/EP-SBCC-FEB-26_-002.jpg
END:VEVENT
BEGIN:VEVENT
DTSTART;TZID=America/Los_Angeles:20260307T110000
DTEND;TZID=America/Los_Angeles:20260307T140000
DTSTAMP:20260423T100843
CREATED:20260223T164638Z
LAST-MODIFIED:20260223T164638Z
UID:10001272-1772881200-1772892000@discovermagnolia.org
SUMMARY:Interbay KinderCare Family Celebration
DESCRIPTION:Join us at Interbay KinderCare for delicious complimentary\nfood\, age-appropriate activities\, gifts\, games for the kids\,\nand opportunities to meet our amazing teachers\,\nstaff\, and new Center Director!
URL:https://discovermagnolia.org/event/interbay-kindercare-family-celebration/
LOCATION:Interbary KinderCare\, 2307 W Elmore St\, Seattle\, WA\, 98199\, United States
CATEGORIES:Drinks,Food,Games
ATTACH;FMTTYPE=image/jpeg:https://discovermagnolia.org/wp-content/uploads/2026/02/Screenshot-2026-02-23-084625.jpg
END:VEVENT
BEGIN:VEVENT
DTSTART;TZID=America/Los_Angeles:20260314T090000
DTEND;TZID=America/Los_Angeles:20260314T110000
DTSTAMP:20260423T100843
CREATED:20260310T195354Z
LAST-MODIFIED:20260310T195354Z
UID:10001276-1773478800-1773486000@discovermagnolia.org
SUMMARY:Salmon Bay Cars & Coffee at Evolution Press
DESCRIPTION:Saturday\, March 14th \n9:00 AM – 11 AM \nEvolution Press – 2525 Commodore Way\, West Seattle\, WA 98199 \nJoin us at Evolution Press for the fourth meeting of Salmon Bay Cars & Coffee\, a relaxed morning of beautiful cars\, great company\, and even better coffee. This month\, enjoy coffee from our friends at Outer Dark Coffee Co.\, take a tour of our print shop\, and explore the art on display in the Jay Mason Gallery upstairs. \nDrive in\, grab a cup\, and join us for some creative car culture every second Saturday of the month! \nEveryone’s welcome — we’d love to see you there.
URL:https://discovermagnolia.org/event/salmon-bay-cars-coffee-at-evolution-press-5/
LOCATION:Evolution Press\, 2525 W Commodore Way\, Seattle\, WA\, 98199\, United States
CATEGORIES:Art,Car Show,Drinks
ATTACH;FMTTYPE=image/jpeg:https://discovermagnolia.org/wp-content/uploads/2026/03/SBCC-MARH26-002.jpg
END:VEVENT
BEGIN:VEVENT
DTSTART;TZID=America/Los_Angeles:20260425T173000
DTEND;TZID=America/Los_Angeles:20260425T203000
DTSTAMP:20260423T100843
CREATED:20260228T141704Z
LAST-MODIFIED:20260305T231525Z
UID:10001273-1777138200-1777149000@discovermagnolia.org
SUMMARY:Vino in the Village- April 25th 2026
DESCRIPTION:Vino in the Village\nSaturday\, April 25\, 2026\n5:30 to 8:30 pm\nMagnolia Village \nVino in the Village features 18 wineries offering delicious wines for tasting and purchase. And if you purchase two or more bottles from any winery\, you get a $5 discount in addition to being tax-free! \nOnline Orders will end at Noon April 25th; Walk-up orders start at 5:30 pm at Modeles Home Furnishing. \nAdvance tickets are $40\, Walk up price is $50
URL:https://discovermagnolia.org/event/vino-in-the-village-april-25th-2026/
LOCATION:Modeles Home Furnishings\, 3220 W McGraw St\, Seattle\, WA\, 98199\, United States
CATEGORIES:Drinks,fund raiser
ATTACH;FMTTYPE=image/png:https://discovermagnolia.org/wp-content/uploads/2026/02/Vino-square-graphic-600x600-1.png
ORGANIZER;CN="Magnolia Chamber of Commerce":MAILTO:info@discovermagnolia.org
END:VEVENT
BEGIN:VEVENT
DTSTART;TZID=America/Los_Angeles:20260521T173000
DTEND;TZID=America/Los_Angeles:20260521T193000
DTSTAMP:20260423T100843
CREATED:20260416T152252Z
LAST-MODIFIED:20260416T152252Z
UID:10001298-1779384600-1779391800@discovermagnolia.org
SUMMARY:Chamber After Hours- ChefShop
DESCRIPTION:As spring settles into Magnolia\, we’re opening the doors at ChefShop for an evening designed to delight the senses and bring fellow Chamber members together.  \n  \nJoin the Magnolia Chamber of Commerce on May 21 from 5:30 to 7:30 for a relaxed\, flavor-filled happy hour where good wine flows\, small bites invite lingering\, and conversation comes easily. It’s the kind of gathering where you might discover a new favorite ingredient\, swap food stories with fellow locals\, or simply savor a midweek moment with Chamber friends that feels a little more special than usual.
URL:https://discovermagnolia.org/event/chamber-after-hours-chefshop/
LOCATION:ChefShop\, 1425 Elliott Ave West\, Seattle\, WA\, 98119\, United States
CATEGORIES:Drinks,Food,Networking
ATTACH;FMTTYPE=image/jpeg:https://discovermagnolia.org/wp-content/uploads/2026/04/Screenshot-2026-04-16-082210.jpg
ORGANIZER;CN="Magnolia Chamber of Commerce":MAILTO:info@discovermagnolia.org
END:VEVENT
BEGIN:VEVENT
DTSTART;TZID=America/Los_Angeles:20260624T170000
DTEND;TZID=America/Los_Angeles:20260624T200000
DTSTAMP:20260423T100843
CREATED:20260413T145119Z
LAST-MODIFIED:20260413T145119Z
UID:10001291-1782320400-1782331200@discovermagnolia.org
SUMMARY:Boat Cruise Around Lake Union
DESCRIPTION:Grow NOW invites you to join us for a fun and relaxed summer social aboard a Trek Boat in Seattle! Enjoy a scenic 2-hour cruise around Lake Union\, complete with live entertainment from Kate Wirth and Joe Carolus\, light appetizers\, exciting raffle baskets\, and plenty of opportunities to make new connections. \nThis casual evening is all about good vibes\, great people\, and soaking in the beauty of a Seattle summer. \nEvent Details: \n\nArrival: 5:00 PM (please allow time for parking)\nBoarding: 5:30 PM\nDeparture: 6:00 PM sharp (the boat will leave on time!)\nReturn: 8:00 PM at Foss Shipyard\n\nDon’t miss the boat—we’d love to have you there! \nUse code: chamber at checkout to receive $10 off your ticket. \nLink: https://nownetworkingwa.ejoinme.org/summersocial
URL:https://discovermagnolia.org/event/boat-cruise-around-lake-union/
LOCATION:Old Stove Brewing\, 660 W Ewing St\, Seattle\, WA\, 98119\, United States
CATEGORIES:Drinks,Food,Music
ATTACH;FMTTYPE=image/png:https://discovermagnolia.org/wp-content/uploads/2026/04/cruise-event-flyer-full-002.png
END:VEVENT
END:VCALENDAR