BEGIN:VCALENDAR
VERSION:2.0
PRODID:-//Discover Magnolia - ECPv6.15.11//NONSGML v1.0//EN
CALSCALE:GREGORIAN
METHOD:PUBLISH
X-ORIGINAL-URL:https://discovermagnolia.org
X-WR-CALDESC:Events for Discover Magnolia
REFRESH-INTERVAL;VALUE=DURATION:PT1H
X-Robots-Tag:noindex
X-PUBLISHED-TTL:PT1H
BEGIN:VTIMEZONE
TZID:America/Los_Angeles
BEGIN:DAYLIGHT
TZOFFSETFROM:-0800
TZOFFSETTO:-0700
TZNAME:PDT
DTSTART:20240310T100000
END:DAYLIGHT
BEGIN:STANDARD
TZOFFSETFROM:-0700
TZOFFSETTO:-0800
TZNAME:PST
DTSTART:20241103T090000
END:STANDARD
BEGIN:DAYLIGHT
TZOFFSETFROM:-0800
TZOFFSETTO:-0700
TZNAME:PDT
DTSTART:20250309T100000
END:DAYLIGHT
BEGIN:STANDARD
TZOFFSETFROM:-0700
TZOFFSETTO:-0800
TZNAME:PST
DTSTART:20251102T090000
END:STANDARD
BEGIN:DAYLIGHT
TZOFFSETFROM:-0800
TZOFFSETTO:-0700
TZNAME:PDT
DTSTART:20260308T100000
END:DAYLIGHT
BEGIN:STANDARD
TZOFFSETFROM:-0700
TZOFFSETTO:-0800
TZNAME:PST
DTSTART:20261101T090000
END:STANDARD
END:VTIMEZONE
BEGIN:VEVENT
DTSTART;VALUE=DATE:20250701
DTEND;VALUE=DATE:20250702
DTSTAMP:20260423T025422
CREATED:20250124T173536Z
LAST-MODIFIED:20250124T173536Z
UID:10001030-1751328000-1751414399@discovermagnolia.org
SUMMARY:Interbay Summer Camps- The Little Gym
DESCRIPTION:Interbay summer camps are 3 hours of Serious Fun for kiddos 3-10 years of age! Camp consists of 2 hours of gym time\, and 1 hour of snacks and craft time. Every week brings a new and exciting theme for your camper and we always have blocks\, books and coloring pages on standby for those campers that need a break. Camps are held Monday-Wednesday from 1-4pm. We offer special discounted pricing for members and camp pack purchases. Non member pricing is $75 for a single camp pass. More information on pack pricing can be found via our scannable QR code. Priority registration opens February 1st.
URL:https://discovermagnolia.org/event/interbay-summer-camps-the-little-gym/2025-07-01/
LOCATION:The Little Gym- Interbay\, 2213 15th Ave W\, Seattle\, WA\, 98119\, United States
CATEGORIES:Craft,Fitness,Food,Kids
ATTACH;FMTTYPE=image/jpeg:https://discovermagnolia.org/wp-content/uploads/2025/01/IB-Camp-2025-Flyer-002-scaled.jpg
END:VEVENT
BEGIN:VEVENT
DTSTART;TZID=America/Los_Angeles:20250712T100000
DTEND;TZID=America/Los_Angeles:20250712T160000
DTSTAMP:20260423T025422
CREATED:20250303T175957Z
LAST-MODIFIED:20250409T194212Z
UID:10000971-1752314400-1752336000@discovermagnolia.org
SUMMARY:Magnolia Flea Market
DESCRIPTION:Discover a curated mix of vintage finds\, local makers\, handmade goods\, sweet treats\, coffee\, and food—plus a vintage warehouse full of gems to explore. \nWhether you’re hunting for one-of-a-kind pieces or just enjoying the Magnolia neighborhood\, this is your weekend spot. Bring a friend\, bring your pup\, and come hang out.
URL:https://discovermagnolia.org/event/magnolia-flea-market-2/2025-07-12/
LOCATION:Magnolia Flea Market\, 4257 24th Ave W\, Seattle\, WA\, 98199\, United States
CATEGORIES:Food,Shopping
ATTACH;FMTTYPE=image/png:https://discovermagnolia.org/wp-content/uploads/2025/03/MF_APRIL25.png
END:VEVENT
BEGIN:VEVENT
DTSTART;TZID=America/Los_Angeles:20250715T173000
DTEND;TZID=America/Los_Angeles:20250715T193000
DTSTAMP:20260423T025422
CREATED:20250324T161331Z
LAST-MODIFIED:20250401T184501Z
UID:10000880-1752600600-1752607800@discovermagnolia.org
SUMMARY:Magnolia Meets: Happy Hour
DESCRIPTION:We enjoy getting together casually in one of our local Magnolia businesses each month. These happy hours are an excellent opportunity to meet other members of the Chamber\, celebrate local business owners and entrepreneurs\, and grow your network. \nJoin us each month from 5:30-7:30pm. Location this month is Palisade.
URL:https://discovermagnolia.org/event/magnolia-meets-happy-hour-2-8/
LOCATION:Palisade\, 2601 W Marina Pl\, Seattle\, WA\, 98199\, United States
CATEGORIES:Drinks,Food,Networking
ATTACH;FMTTYPE=image/jpeg:https://discovermagnolia.org/wp-content/uploads/2025/03/Happy-Hour-Palisade.jpg
ORGANIZER;CN="Magnolia Chamber of Commerce":MAILTO:info@discovermagnolia.org
END:VEVENT
BEGIN:VEVENT
DTSTART;TZID=America/Los_Angeles:20250718T160000
DTEND;TZID=America/Los_Angeles:20250718T220000
DTSTAMP:20260423T025422
CREATED:20250527T205827Z
LAST-MODIFIED:20250527T205827Z
UID:10001090-1752854400-1752876000@discovermagnolia.org
SUMMARY:36th Annual Seafair Indian Days Powwow
DESCRIPTION:Event Date/Time: July 18th – 20th \, Friday 4 – 10 PM\, Saturday 10 AM-10PM\, Sunday 10 AM – 6 PM \nContact Phone Number: 206-285-4425
URL:https://discovermagnolia.org/event/36th-annual-seafair-indian-days-powwow/2025-07-18/
LOCATION:Daybreak Star\, 5011 Bernie Whitebear Way\, Seattle\, WA\, 98199\, United States
CATEGORIES:Art,Dance,Education,Food
ATTACH;FMTTYPE=image/jpeg:https://discovermagnolia.org/wp-content/uploads/2025/05/POWWOW-2025-Media-Post-1-1-002.jpg
ORGANIZER;CN="United Indians of All Tribes Foundation":MAILTO:info@unitedindians.org
END:VEVENT
BEGIN:VEVENT
DTSTART;TZID=America/Los_Angeles:20250719T100000
DTEND;TZID=America/Los_Angeles:20250719T220000
DTSTAMP:20260423T025422
CREATED:20250527T205827Z
LAST-MODIFIED:20250527T205827Z
UID:10001091-1752919200-1752962400@discovermagnolia.org
SUMMARY:36th Annual Seafair Indian Days Powwow
DESCRIPTION:Event Date/Time: July 18th – 20th \, Friday 4 – 10 PM\, Saturday 10 AM-10PM\, Sunday 10 AM – 6 PM \nContact Phone Number: 206-285-4425
URL:https://discovermagnolia.org/event/36th-annual-seafair-indian-days-powwow/2025-07-19/
LOCATION:Daybreak Star\, 5011 Bernie Whitebear Way\, Seattle\, WA\, 98199\, United States
CATEGORIES:Art,Dance,Education,Food
ATTACH;FMTTYPE=image/jpeg:https://discovermagnolia.org/wp-content/uploads/2025/05/POWWOW-2025-Media-Post-1-1-002.jpg
ORGANIZER;CN="United Indians of All Tribes Foundation":MAILTO:info@unitedindians.org
END:VEVENT
BEGIN:VEVENT
DTSTART;TZID=America/Los_Angeles:20250720T100000
DTEND;TZID=America/Los_Angeles:20250720T180000
DTSTAMP:20260423T025422
CREATED:20250527T205827Z
LAST-MODIFIED:20250527T205827Z
UID:10001092-1753005600-1753034400@discovermagnolia.org
SUMMARY:36th Annual Seafair Indian Days Powwow
DESCRIPTION:Event Date/Time: July 18th – 20th \, Friday 4 – 10 PM\, Saturday 10 AM-10PM\, Sunday 10 AM – 6 PM \nContact Phone Number: 206-285-4425
URL:https://discovermagnolia.org/event/36th-annual-seafair-indian-days-powwow/2025-07-20/
LOCATION:Daybreak Star\, 5011 Bernie Whitebear Way\, Seattle\, WA\, 98199\, United States
CATEGORIES:Art,Dance,Education,Food
ATTACH;FMTTYPE=image/jpeg:https://discovermagnolia.org/wp-content/uploads/2025/05/POWWOW-2025-Media-Post-1-1-002.jpg
ORGANIZER;CN="United Indians of All Tribes Foundation":MAILTO:info@unitedindians.org
END:VEVENT
BEGIN:VEVENT
DTSTART;TZID=America/Los_Angeles:20250730T120000
DTEND;TZID=America/Los_Angeles:20250730T130000
DTSTAMP:20260423T025422
CREATED:20250627T163508Z
LAST-MODIFIED:20250627T163509Z
UID:10001115-1753876800-1753880400@discovermagnolia.org
SUMMARY:Business Resiliency Round Table
DESCRIPTION:Build Resiliency in Turbulent Times – Join the Discussion\nNavigating uncertainty is challenging for any business – big or small\, sole proprietorship\, LLC\, or corporate – but you don’t have to do it alone. \nPlease join our Business Resiliency Roundtable\, a lunch-and-learn discussion where local business owners and leaders will share insights\, challenges\, and strategies for staying strong in unpredictable times. Details are still being worked out\, but you can anticipate the following: \n📍 Mid-week sessions at a convenient location at Fishermen’s Terminal \n🍽 Lunch provided by a local member business \n💬 Collaboration and helpful dialogue with fellow business leaders \nOrder Tickets HERE
URL:https://discovermagnolia.org/event/business-resiliency-round-table/
LOCATION:Maritime Blue\, 1900 W Nickerson St\, Seattle\, WA\, 98119\, United States
CATEGORIES:Food,Networking
ATTACH;FMTTYPE=image/png:https://discovermagnolia.org/wp-content/uploads/2025/04/Business-Roundtable.png
ORGANIZER;CN="Magnolia Chamber of Commerce":MAILTO:info@discovermagnolia.org
END:VEVENT
END:VCALENDAR