BEGIN:VCALENDAR
VERSION:2.0
PRODID:-//Discover Magnolia - ECPv6.15.11//NONSGML v1.0//EN
CALSCALE:GREGORIAN
METHOD:PUBLISH
X-ORIGINAL-URL:https://discovermagnolia.org
X-WR-CALDESC:Events for Discover Magnolia
REFRESH-INTERVAL;VALUE=DURATION:PT1H
X-Robots-Tag:noindex
X-PUBLISHED-TTL:PT1H
BEGIN:VTIMEZONE
TZID:America/Los_Angeles
BEGIN:DAYLIGHT
TZOFFSETFROM:-0800
TZOFFSETTO:-0700
TZNAME:PDT
DTSTART:20250309T100000
END:DAYLIGHT
BEGIN:STANDARD
TZOFFSETFROM:-0700
TZOFFSETTO:-0800
TZNAME:PST
DTSTART:20251102T090000
END:STANDARD
BEGIN:DAYLIGHT
TZOFFSETFROM:-0800
TZOFFSETTO:-0700
TZNAME:PDT
DTSTART:20260308T100000
END:DAYLIGHT
BEGIN:STANDARD
TZOFFSETFROM:-0700
TZOFFSETTO:-0800
TZNAME:PST
DTSTART:20261101T090000
END:STANDARD
BEGIN:DAYLIGHT
TZOFFSETFROM:-0800
TZOFFSETTO:-0700
TZNAME:PDT
DTSTART:20270314T100000
END:DAYLIGHT
BEGIN:STANDARD
TZOFFSETFROM:-0700
TZOFFSETTO:-0800
TZNAME:PST
DTSTART:20271107T090000
END:STANDARD
END:VTIMEZONE
BEGIN:VEVENT
DTSTART;VALUE=DATE:20260201
DTEND;VALUE=DATE:20260202
DTSTAMP:20260423T051442
CREATED:20250124T173536Z
LAST-MODIFIED:20250124T173536Z
UID:10001037-1769904000-1769990399@discovermagnolia.org
SUMMARY:Interbay Summer Camps- The Little Gym
DESCRIPTION:Interbay summer camps are 3 hours of Serious Fun for kiddos 3-10 years of age! Camp consists of 2 hours of gym time\, and 1 hour of snacks and craft time. Every week brings a new and exciting theme for your camper and we always have blocks\, books and coloring pages on standby for those campers that need a break. Camps are held Monday-Wednesday from 1-4pm. We offer special discounted pricing for members and camp pack purchases. Non member pricing is $75 for a single camp pass. More information on pack pricing can be found via our scannable QR code. Priority registration opens February 1st.
URL:https://discovermagnolia.org/event/interbay-summer-camps-the-little-gym/2026-02-01/
LOCATION:The Little Gym- Interbay\, 2213 15th Ave W\, Seattle\, WA\, 98119\, United States
CATEGORIES:Craft,Fitness,Food,Kids
ATTACH;FMTTYPE=image/jpeg:https://discovermagnolia.org/wp-content/uploads/2025/01/IB-Camp-2025-Flyer-002-scaled.jpg
END:VEVENT
BEGIN:VEVENT
DTSTART;TZID=America/Los_Angeles:20260203T083000
DTEND;TZID=America/Los_Angeles:20260203T100000
DTSTAMP:20260423T051442
CREATED:20251204T234705Z
LAST-MODIFIED:20260106T164221Z
UID:10001235-1770107400-1770112800@discovermagnolia.org
SUMMARY:Business & Breakfast Session 20- The Power of "Why"
DESCRIPTION:This session explores how identifying and communicating your business’s “why” can transform everything from marketing to hiring to long-term strategy. Many small business owners feel stuck\, overwhelmed\, or spread thin – not because they lack effort\, but because they lack clarity of purpose. \nBy returning to the core reason your business exists\, you create direction\, motivation\, and a more compelling brand story. This topic empowers entrepreneurs to lead with intention\, deepen customer trust\, & make decisions that support sustainable growth. \n💡 What You’ll Gain:\n\nClarity: Clarify the deeper mission that drives your business and fuels long-term momentum.\nBrand Authenticity: Discover how to show up in a way that feels real\, engaging\, & professional.\nPractical Tools: Reduce overwhelm by using your “why” as a filter for what to prioritize – & what to let go.\nPeer Connection: Learn how purpose-led businesses create stronger customer loyalty & word-of-mouth.\nMomentum & Motivation: Feel renewed energy & direction by reconnecting with why you started in the first place.\n\n🎟️ Reserve your spot today and start 2026 with clarity\, inspiration\, and connection. \n 
URL:https://discovermagnolia.org/event/business-breakfast-session-20-the-power-of-why/
LOCATION:Aegis Living at Rodgers Park\, 2900 3rd Ave W\, Seattle\, WA\, 98119\, United States
CATEGORIES:Education,Food,Networking
ATTACH;FMTTYPE=image/png:https://discovermagnolia.org/wp-content/uploads/2025/12/BB_20-DefineYourWhy_newsletter_with_sponsor-002.png
ORGANIZER;CN="Magnolia Chamber of Commerce":MAILTO:info@discovermagnolia.org
END:VEVENT
BEGIN:VEVENT
DTSTART;TZID=America/Los_Angeles:20260214T100000
DTEND;TZID=America/Los_Angeles:20260214T160000
DTSTAMP:20260423T051442
CREATED:20250303T175957Z
LAST-MODIFIED:20250409T194212Z
UID:10000977-1771063200-1771084800@discovermagnolia.org
SUMMARY:Magnolia Flea Market
DESCRIPTION:Discover a curated mix of vintage finds\, local makers\, handmade goods\, sweet treats\, coffee\, and food—plus a vintage warehouse full of gems to explore. \nWhether you’re hunting for one-of-a-kind pieces or just enjoying the Magnolia neighborhood\, this is your weekend spot. Bring a friend\, bring your pup\, and come hang out.
URL:https://discovermagnolia.org/event/magnolia-flea-market-2/2026-02-14/
LOCATION:Magnolia Flea Market\, 4257 24th Ave W\, Seattle\, WA\, 98199\, United States
CATEGORIES:Food,Shopping
ATTACH;FMTTYPE=image/png:https://discovermagnolia.org/wp-content/uploads/2025/03/MF_APRIL25.png
END:VEVENT
BEGIN:VEVENT
DTSTART;TZID=America/Los_Angeles:20260214T170000
DTEND;TZID=America/Los_Angeles:20260214T210000
DTSTAMP:20260423T051442
CREATED:20260202T161030Z
LAST-MODIFIED:20260202T161030Z
UID:10001251-1771088400-1771102800@discovermagnolia.org
SUMMARY:Valentine’s Day at Daybreak Star
DESCRIPTION:Indipino Karaoke Fundraiser: Valentine’s Day at Daybreak Star\nCelebrate love and community this Valentine’s Day at the Daybreak Star Indian Cultural Center in Seattle. In partnership with OEMA\, we are proud to host Indipino Karaoke\, a special fundraising event dedicated to supporting the Sacred Circle Gallery. \nSupport Indigenous Arts and Culture\nThis gathering aims to uplift the history and rich culture of the Indipino community. We invite you to join us as we honor the families who have been deeply involved with the United Indians of All Tribes Foundation (UIATF). \nWhat to Expect\nWhether you are a karaoke professional or just want to cheer on your friends\, this evening promises music\, connection\, and fun. It is a wonderful way to contribute to the preservation of Indigenous arts. \n\n\nLive Karaoke: Sing your heart out or enjoy the show. \n\n\nDelicious Food: Filipino meals will be available for purchase. \n\nMeet the Artist: Chat with Cheyenne River Sioux glass artist Sara Ficklin\, the artist behind the Sacred Circle Gallery’s current exhibition!\n\nCommunity Impact: All proceeds benefit the Sacred Circle Gallery. \n\n\nEvent Details\n\n\nDate: Saturday\, February 14\, 2026 from 5 – 9 PM \n\n\nLocation: Daybreak Star Indian Cultural Center (5011 Bernie Whitebear Way\, Seattle\, WA 98199) \n\n\nInquiries: Reach out to jmontano@unitedindians.org for more information.
URL:https://discovermagnolia.org/event/valentines-day-at-daybreak-star/
LOCATION:Daybreak Star\, 5011 Bernie Whitebear Way\, Seattle\, WA\, 98199\, United States
CATEGORIES:Art,Food,Music
ATTACH;FMTTYPE=image/jpeg:https://discovermagnolia.org/wp-content/uploads/2026/02/INDIPINO-Karaoke-Valentines-1097x1536-1.jpg
ORGANIZER;CN="United Indians of All Tribes Foundation":MAILTO:info@unitedindians.org
END:VEVENT
END:VCALENDAR