BEGIN:VCALENDAR
VERSION:2.0
PRODID:-//Discover Magnolia - ECPv6.15.11//NONSGML v1.0//EN
CALSCALE:GREGORIAN
METHOD:PUBLISH
X-WR-CALNAME:Discover Magnolia
X-ORIGINAL-URL:https://discovermagnolia.org
X-WR-CALDESC:Events for Discover Magnolia
REFRESH-INTERVAL;VALUE=DURATION:PT1H
X-Robots-Tag:noindex
X-PUBLISHED-TTL:PT1H
BEGIN:VTIMEZONE
TZID:America/Los_Angeles
BEGIN:DAYLIGHT
TZOFFSETFROM:-0800
TZOFFSETTO:-0700
TZNAME:PDT
DTSTART:20230312T100000
END:DAYLIGHT
BEGIN:STANDARD
TZOFFSETFROM:-0700
TZOFFSETTO:-0800
TZNAME:PST
DTSTART:20231105T090000
END:STANDARD
BEGIN:DAYLIGHT
TZOFFSETFROM:-0800
TZOFFSETTO:-0700
TZNAME:PDT
DTSTART:20240310T100000
END:DAYLIGHT
BEGIN:STANDARD
TZOFFSETFROM:-0700
TZOFFSETTO:-0800
TZNAME:PST
DTSTART:20241103T090000
END:STANDARD
BEGIN:DAYLIGHT
TZOFFSETFROM:-0800
TZOFFSETTO:-0700
TZNAME:PDT
DTSTART:20250309T100000
END:DAYLIGHT
BEGIN:STANDARD
TZOFFSETFROM:-0700
TZOFFSETTO:-0800
TZNAME:PST
DTSTART:20251102T090000
END:STANDARD
END:VTIMEZONE
BEGIN:VEVENT
DTSTART;TZID=America/Los_Angeles:20240720T100000
DTEND;TZID=America/Los_Angeles:20240720T140000
DTSTAMP:20260423T072353
CREATED:20240517T200137Z
LAST-MODIFIED:20240517T200137Z
UID:10000782-1721469600-1721484000@discovermagnolia.org
SUMMARY:Magnolia Farmers Market
DESCRIPTION:Our mission is to support and strengthen Washington’s small\, sustainable family farms by creating and operating vibrant\, neighborhood-scale markets where farmers and food producers can sell their goods\, develop relationships with customers\, and grow their capacity to produce local ingredients and artisanal products. Local farms make our communities more welcoming\, more food-secure\, and much more delicious. Our mission is to help them thrive. \nOur work supports farmers\, shoppers\, and communities.\n\nMore than operating the markets\, we actively support farmers\, educate consumers\, and advocate for policies that make producing\, selling\, acquiring\, and eating good food more attainable.
URL:https://discovermagnolia.org/event/magnolia-farmers-market/2024-07-20/
LOCATION:Magnolia Village\, West McGraw Street\, Seattle\, 98199
CATEGORIES:Food
ATTACH;FMTTYPE=image/png:https://discovermagnolia.org/wp-content/uploads/2024/05/Magnolia-Farmers-Market.png
END:VEVENT
BEGIN:VEVENT
DTSTART;TZID=America/Los_Angeles:20240720T120000
DTEND;TZID=America/Los_Angeles:20240720T170000
DTSTAMP:20260423T072353
CREATED:20240517T174430Z
LAST-MODIFIED:20240717T225332Z
UID:10000772-1721476800-1721494800@discovermagnolia.org
SUMMARY:Magnolia Steinwalk
DESCRIPTION:Magnolia Steinwalk in the Magnolia Industrial Area\nFeaturing Magnolia’s Figurehead Brewery\, Dirty Couch Brewing\, Bizzare Brewing\, & Rooftop Brewing\nJuly 20\, 2024\n12 noon to 5:00 pm \nLearn more and get your tickets HERE. \n$30 per person/promo code for Magnolia Chamber members \nEnjoy family-friendly activities\, including food trucks\, games\, and live music. You must be 21 to taste and savor beer.
URL:https://discovermagnolia.org/event/magnolia-steinwalk/
LOCATION:WA
CATEGORIES:Drinks,Food,Music
ATTACH;FMTTYPE=application/pdf:https://discovermagnolia.org/wp-content/uploads/2024/05/Final-2024-SteinWalkPoster.pdf
ORGANIZER;CN="Magnolia Chamber of Commerce":MAILTO:info@discovermagnolia.org
END:VEVENT
END:VCALENDAR