BEGIN:VCALENDAR
VERSION:2.0
PRODID:-//Discover Magnolia - ECPv6.15.11//NONSGML v1.0//EN
CALSCALE:GREGORIAN
METHOD:PUBLISH
X-WR-CALNAME:Discover Magnolia
X-ORIGINAL-URL:https://discovermagnolia.org
X-WR-CALDESC:Events for Discover Magnolia
REFRESH-INTERVAL;VALUE=DURATION:PT1H
X-Robots-Tag:noindex
X-PUBLISHED-TTL:PT1H
BEGIN:VTIMEZONE
TZID:America/Los_Angeles
BEGIN:DAYLIGHT
TZOFFSETFROM:-0800
TZOFFSETTO:-0700
TZNAME:PDT
DTSTART:20240310T100000
END:DAYLIGHT
BEGIN:STANDARD
TZOFFSETFROM:-0700
TZOFFSETTO:-0800
TZNAME:PST
DTSTART:20241103T090000
END:STANDARD
BEGIN:DAYLIGHT
TZOFFSETFROM:-0800
TZOFFSETTO:-0700
TZNAME:PDT
DTSTART:20250309T100000
END:DAYLIGHT
BEGIN:STANDARD
TZOFFSETFROM:-0700
TZOFFSETTO:-0800
TZNAME:PST
DTSTART:20251102T090000
END:STANDARD
BEGIN:DAYLIGHT
TZOFFSETFROM:-0800
TZOFFSETTO:-0700
TZNAME:PDT
DTSTART:20260308T100000
END:DAYLIGHT
BEGIN:STANDARD
TZOFFSETFROM:-0700
TZOFFSETTO:-0800
TZNAME:PST
DTSTART:20261101T090000
END:STANDARD
END:VTIMEZONE
BEGIN:VEVENT
DTSTART;TZID=America/Los_Angeles:20251206T140000
DTEND;TZID=America/Los_Angeles:20251206T200000
DTSTAMP:20260423T063533
CREATED:20250915T213651Z
LAST-MODIFIED:20251106T201009Z
UID:10001201-1765029600-1765051200@discovermagnolia.org
SUMMARY:Magnolia Winterfest 2025
DESCRIPTION:The holiday season kicks off in style in Magnolia with the annual Winterfest on Saturday\, December 6th. \nLocal merchants and businesses in Magnolia Village will offer an array of holiday-themed arts and crafts activities for kids during the daytime and traditional favorites such as photos with Santa\, the Magnolia holiday tree lighting event\, and holiday caroling through Magnolia Village. \nDelicious bites and beverages can be enjoyed at Magnolia Village restaurants and venues\, all in preparation for after-hours shopping at local boutiques and stores. \nIn addition\, at Magnolia Lutheran Church\, the Lloyd W. Nordstrom Guild will be hosting a Winterfest Marketplace event supporting Seattle Children’s Hospital. \nFollow the updated details on our website HERE.
URL:https://discovermagnolia.org/event/magnolia-winterfest-2025/
LOCATION:Magnolia Village\, West McGraw Street\, Seattle\, 98199
CATEGORIES:Craft,Drinks,Food,Games,Holiday observance,Kids,Music,Shopping
ATTACH;FMTTYPE=image/jpeg:https://discovermagnolia.org/wp-content/uploads/2025/09/Winterfest2025SocialMediaImage.jpg
ORGANIZER;CN="Magnolia Chamber of Commerce":MAILTO:info@discovermagnolia.org
END:VEVENT
END:VCALENDAR